BEGIN:VCALENDAR
VERSION:2.0
PRODID:-//Plone.org//NONSGML plone.app.event//EN
X-WR-TIMEZONE:Europe/Berlin
BEGIN:VEVENT
SUMMARY:Jerusalem - unter die Kulissen geschaut.
DTSTART;TZID=Europe/Berlin:20211206T141500
DTEND:20211206T160000
DTSTAMP:20260424T074517Z
UID:aaef1b5defaf4a209a259305580c652b@www.uni-bonn.de
CREATED:20211027T122654Z
DESCRIPTION:Biblische Geschichte und Ausgrabungen in der heiligen Stadt: d
 arüber berichtet aus erster Hand Herr Professor Dr. Dr. Dr. h. c. Dieter 
 Vieweger\, Direktor des Deutschen Evangelischen Instituts fürAltertumswis
 senschaft des Heiligen Landes (DEIHL) in Jerusalem und des Biblisch-Archä
 ologischen Instituts in Wuppertal.
LAST-MODIFIED:20221130T101617Z
URL:https://www.uni-bonn.de/de/veranstaltungen/jerusalem-unter-die-kulisse
 n-geschaut
END:VEVENT
BEGIN:VTIMEZONE
TZID:Europe/Berlin
X-LIC-LOCATION:Europe/Berlin
BEGIN:STANDARD
DTSTART:20211031T020000
TZNAME:CET
TZOFFSETFROM:+0200
TZOFFSETTO:+0100
END:STANDARD
END:VTIMEZONE
END:VCALENDAR
