BEGIN:VCALENDAR
VERSION:2.0
PRODID:-//Plone.org//NONSGML plone.app.event//EN
X-WR-TIMEZONE:Europe/Berlin
BEGIN:VEVENT
SUMMARY:iStart: Self-Empowerment & Motivation Coaching
DTSTART;TZID=Europe/Berlin:20260515T140000
DTEND;TZID=Europe/Berlin:20260515T180000
DTSTAMP:20260424T070405Z
UID:98841cedbeb5488d92b17c591cbdf5be@www.uni-bonn.de
CATEGORIES:International Office,6.3,Campus International,iStart,Studierend
 e,Übergang Studium Beruf, Übergang Studium Beruf
CREATED:20260303T150104Z
DESCRIPTION:Sind Sie von Ihrer Jobsuche entmutigt? Nehmen Sie an unserem W
 orkshop „Self-Empowerment & Motivation Coaching” teil\, in dem wir tra
 nsformative Techniken erkunden\, um negative Erfahrungen in starke Motivat
 ion umzuwandeln!\n\nWas Sie von dieser Veranstaltung erwarten können:\n- 
 Entdecken Sie effektive Methoden\, um aus Rückschlägen zu lernen und sie
  als Sprungbrett zum Erfolg zu nutzen. Lernen Sie\, wie Sie Ihre Denkweise
  ändern und Herausforderungen als Chancen für Wachstum betrachten könne
 n.\n- Strategien zur Selbstmotivation: Erlangen Sie praktische Werkzeuge\,
  um Ihre Selbstmotivation in schwierigen Zeiten zu steigern. Wir behandeln
  Strategien\, die Ihnen helfen\, während Ihrer gesamten Jobsuche fokussie
 rt\, resilient und positiv zu bleiben.\n\nLassen Sie sich nicht von negati
 ven Erfahrungen zurückhalten! Melden Sie sich jetzt an und machen Sie den
  ersten Schritt\, um Ihr Selbstvertrauen und Ihre Motivation auf dem Weg z
 um beruflichen Erfolg zurückzugewinnen! (iStart)
LAST-MODIFIED:20260303T162631Z
URL:https://www.uni-bonn.de/de/veranstaltungen/istart-self-empowerment-mot
 ivation-coaching-1
END:VEVENT
BEGIN:VTIMEZONE
TZID:Europe/Berlin
X-LIC-LOCATION:Europe/Berlin
BEGIN:DAYLIGHT
DTSTART:20260329T030000
TZNAME:CEST
TZOFFSETFROM:+0100
TZOFFSETTO:+0200
END:DAYLIGHT
END:VTIMEZONE
END:VCALENDAR
