BEGIN:VCALENDAR
VERSION:2.0
PRODID:-//Plone.org//NONSGML plone.app.event//EN
X-WR-TIMEZONE:Europe/Berlin
BEGIN:VEVENT
SUMMARY:iStart: Job Interview Coaching
DTSTART;TZID=Europe/Berlin:20260613T120000
DTEND;TZID=Europe/Berlin:20260613T160000
DTSTAMP:20260420T195815Z
UID:fdc39a51879b463d994d0957c2e0d843@www.uni-bonn.de
CATEGORIES:International Office,6.3,Campus International,iStart,Studierend
 e, Übergang Studium Beruf
CREATED:20260303T151706Z
DESCRIPTION:Kein Stress mehr wegen Vorstellungsgesprächen! Lernen Sie mit
  einer Trainerin\, was Sie tun und was Sie vermeiden sollten\, und welche 
 Fragen typischerweise gestellt werden. Üben Sie Ihre Antworten\, Ihre Kö
 rpersprache und Ihre Stimme und erhalten Sie praktische Tipps\, wie Sie Ih
 re Nervosität überwinden und sich effektiv vorbereiten können.\n\nWas S
 ie erwartet:\n- Allgemeine Verhaltensregeln für Vorstellungsgespräche\n-
  Typische Fragen und wie man sie beantwortet\n- Üben von Antworten\, Kör
 persprache und Stimme\n- Tipps zur Überwindung von Nervosität und zur ef
 fektiven Vorbereitung\n- Einsatz von KI für Vorstellungsgesprächssimulat
 ionen\n\nHinweis: Diese Veranstaltung ist nicht für individuelle Probevor
 stellungsgespräche gedacht!\n\n(iStart)
LAST-MODIFIED:20260303T162414Z
URL:https://www.uni-bonn.de/de/veranstaltungen/istart-job-interview-coachi
 ng
END:VEVENT
BEGIN:VTIMEZONE
TZID:Europe/Berlin
X-LIC-LOCATION:Europe/Berlin
BEGIN:DAYLIGHT
DTSTART:20260329T030000
TZNAME:CEST
TZOFFSETFROM:+0100
TZOFFSETTO:+0200
END:DAYLIGHT
END:VTIMEZONE
END:VCALENDAR
