BEGIN:VCALENDAR
VERSION:2.0
PRODID:-//Plone.org//NONSGML plone.app.event//EN
X-WR-TIMEZONE:Europe/Berlin
BEGIN:VEVENT
SUMMARY:iStart: Coffee Talk with Experts: Project Management
DTSTART;TZID=Europe/Berlin:20251029T170000
DTEND;TZID=Europe/Berlin:20251029T180000
DTSTAMP:20260422T185512Z
UID:96c8dd9fd84b4a8eb3ac17c3f64149ec@www.uni-bonn.de
CATEGORIES:International Office,6.3,Campus International,iStart,Studierend
 e, Übergang Studium Beruf
CREATED:20250929T093307Z
DESCRIPTION:Möchten Sie mit Expert*innen aus der Region in Kontakt treten
  und Einblicke in deren Arbeitsalltag gewinnen? Nehmen Sie an unseren Vera
 nstaltungen teil\, bei denen wir Unternehmen auf unseren Campus einladen\,
  um in entspannter Atmosphäre von ihren Erfahrungen zu lernen. Dieses Mal
  besuchen uns Expert*innen von ICLEI e.V. und teilen ihr Fachwissen zum Th
 ema Projektmanagement mit uns.\n\nWas Sie erwartet:\nEinblicke in die Prax
 is des Projektmanagements\nGelegenheit\, Fragen zu stellen\, von erfahrene
 n Fachleuten zu lernen und sich mit ihnen zu vernetzen\nVerständnis für 
 Herausforderungen und Lösungen im Geschäftsalltag\n\nZur Erinnerung: Die
 s ist keine Recruiting-Veranstaltung. (iStart)
LAST-MODIFIED:20250929T100339Z
URL:https://www.uni-bonn.de/de/veranstaltungen/istart-coffee-talk-with-exp
 erts-project-management
END:VEVENT
BEGIN:VTIMEZONE
TZID:Europe/Berlin
X-LIC-LOCATION:Europe/Berlin
BEGIN:STANDARD
DTSTART:20251026T020000
TZNAME:CET
TZOFFSETFROM:+0200
TZOFFSETTO:+0100
END:STANDARD
END:VTIMEZONE
END:VCALENDAR
