BEGIN:VCALENDAR
VERSION:2.0
PRODID:-//Plone.org//NONSGML plone.app.event//EN
X-WR-TIMEZONE:Europe/Berlin
BEGIN:VEVENT
SUMMARY:International Days 2023
DTSTART;VALUE=DATE:20231019
DTEND;VALUE=DATE:20231021
DTSTAMP:20260423T085724Z
UID:ace2147c924e4d8bbf140ea04bf587df@www.uni-bonn.de
CATEGORIES:International,Studierende,Forschende
CREATED:20230912T085157Z
DESCRIPTION:Mit den International Days 2023 feiert die Universität Bonn a
 uch in diesem Jahr wieder internationale Partnerschaften\, exzellenten Nac
 hwuchs und Forschung von Weltklasse. Das Prorektorat für Internationales 
 lädt Studierende\, Promovierende\, Postdocs\, Forschende und Interessiert
 e zum Mitfeiern ein.\n\nVom 19. bis 20. Oktober 2023 werden zahlreiche int
 ernationale Projekte und Initiativen der Universität Bonn vorgestellt\, a
 ktuelle Herausforderungen und Zukunftschancen in der internationalen Koope
 ration – insbesondere mit Partner*innen des sogenannten „Global South
 “ – diskutiert und Studierenden wie Forschenden umfassende Information
 smöglichkeiten geboten. Kulturelle Highlights und herausragende internati
 onale Gäste versprechen neue Perspektiven.
LAST-MODIFIED:20231013T132402Z
URL:https://www.uni-bonn.de/de/veranstaltungen/international-days-2023
END:VEVENT
END:VCALENDAR
