BEGIN:VCALENDAR
VERSION:2.0
PRODID:-//Plone.org//NONSGML plone.app.event//EN
X-WR-TIMEZONE:Europe/Berlin
BEGIN:VEVENT
SUMMARY:Healthy Campus Bonn Woche
DTSTART:20241119T110000
DTEND:20241120T140000
DTSTAMP:20260424T082728Z
UID:87f9aadb7dbf476bb95f1ed2ec81573a@www.uni-bonn.de
CREATED:20241021T105742Z
DESCRIPTION:Seit nun mehr 10 Jahren wird die Healthy Campus Bonn Woche mit
  dem Ziel organisiert\, die Themen gesunde Ernährung und Bewegung in den 
 Fokus zu rücken. Für das Jubiläum haben wir uns in diesem Jahr etwas Be
 sonderes überlegt. Wie immer hoffen wir\, dass ihr viel Spaß mit unseren
  Aktionen haben werdet und auch Einiges für euch mitnehmen könnt. Schaut
  gerne vorbei und informiert euch schon vorher\, was ihr in dieser Woche e
 rleben könnt.
LAST-MODIFIED:20250906T040344Z
URL:https://www.uni-bonn.de/de/veranstaltungen/healthy-campus-bonn-woche-3
END:VEVENT
BEGIN:VTIMEZONE
TZID:Europe/Berlin
X-LIC-LOCATION:Europe/Berlin
BEGIN:STANDARD
DTSTART:20241027T020000
TZNAME:CET
TZOFFSETFROM:+0200
TZOFFSETTO:+0100
END:STANDARD
END:VTIMEZONE
END:VCALENDAR
