BEGIN:VCALENDAR
VERSION:2.0
PRODID:-//Plone.org//NONSGML plone.app.event//EN
X-WR-TIMEZONE:Europe/Berlin
BEGIN:VEVENT
SUMMARY:Healthy Campus Bonn Woche
DTSTART;VALUE=DATE:20240422
DTEND;VALUE=DATE:20240427
DTSTAMP:20260424T044135Z
UID:6be80efc14a64c4b937b75344cdda107@www.uni-bonn.de
CREATED:20240318T133753Z
DESCRIPTION:Zweimal im Jahr findet die Healthy Campus Bonn Woche statt. Hi
 erbei wird in Kooperation mit weiteren Akteur*innen ein buntes Angebot run
 d um das Thema Gesundheit angeboten. Ob Ernährungsquiz\, Analyse der Kör
 perzusammensetzung oder Infos zu Themen wie Ernährung\, Bewegung oder erh
 olsamer Pause - in der HCBN Woche ist für alle etwas dabei.\n\nAlso kommt
  vorbei und schaut\, was wir dieses Mal für euch geplant haben!
LAST-MODIFIED:20240318T194159Z
URL:https://www.uni-bonn.de/de/veranstaltungen/healthy-campus-bonn-woche-2
END:VEVENT
END:VCALENDAR
