BEGIN:VCALENDAR
VERSION:2.0
PRODID:-//Plone.org//NONSGML plone.app.event//EN
X-WR-TIMEZONE:Europe/Berlin
BEGIN:VEVENT
SUMMARY:HD-Snack: Multiple-Choice-Prüfungen
DTSTART;TZID=Europe/Berlin:20221214T123000
DTEND;TZID=Europe/Berlin:20221214T133000
DTSTAMP:20260424T042345Z
UID:bd827dd5c73d4950baa274b9688f8cb8@www.uni-bonn.de
CREATED:20221019T085924Z
DESCRIPTION:Der HD-Snack (hochschuldidaktischer Snack) ist ein Kurzformat 
 zu hochschuldidaktischen Themen. Sie erhalten in kurzen einstündigen Sess
 ions über die Mittagszeit hochschuldidaktische Impulse. Neben einem kurze
 n Input bieten die Sessions zudem ausreichend Raum für Ihre Fragen\, Ihre
  Erfahrungen und den Austausch mit Kolleg*innen. Sie sind während der Ses
 sions herzlich dazu eingeladen nicht nur einen hochschuldidaktischen Snack
  zu genießen\, sondern auch zu essen und zu trinken. Das Angebot richtet 
 sich an alle Lehrenden und Tutor*innen der Universität Bonn.
LAST-MODIFIED:20250906T011257Z
URL:https://www.uni-bonn.de/de/veranstaltungen/hd-snack-hochschuldidaktisc
 her-snack-2
END:VEVENT
BEGIN:VTIMEZONE
TZID:Europe/Berlin
X-LIC-LOCATION:Europe/Berlin
BEGIN:STANDARD
DTSTART:20221030T020000
TZNAME:CET
TZOFFSETFROM:+0200
TZOFFSETTO:+0100
END:STANDARD
END:VTIMEZONE
END:VCALENDAR
