BEGIN:VCALENDAR
VERSION:2.0
PRODID:-//Plone.org//NONSGML plone.app.event//EN
X-WR-TIMEZONE:Europe/Berlin
BEGIN:VEVENT
SUMMARY:Gründungsstammtisch
DTSTART:20230614T170000
DTEND:20230614T190000
DTSTAMP:20260423T001425Z
UID:b5273d3a14f0436fb76e295826cb9486@www.uni-bonn.de
CREATED:20230601T124317Z
DESCRIPTION:Dieses Mal kommt Lisa-Marie Hagels von LiMa's fairpackte Welt\
 , dem Unverpacktladen in Bonn Beuel. Sie möchte das Leben müllfrei und v
 or allem zukunftsfähiger gestalten. Als gelernte Sozialarbeiterin ist ihr
  der soziale und faire Aspekt besonders wichtig. Bei LiMa's gibt es Raum f
 ür Austausch und viel Transparenz. Auf Märkten\, in Workshops und auf ih
 ren Social Media Kanälen nimmt sie die Menschen mit auf die Reise hinter 
 die Kulissen der Lebensmittelherkunft und das Leben als Selbstständige.\n
 \nWie man erfolgreich ein Ladenlokal in der Bonn-Beueler Innenstadt bestü
 ckt\, welche Hürden in der Arbeit mit Lebensmitteln auf einen zukommen un
 d die Tipps & Tricks für das Leben als Selbstständige verrät uns Lisa.\
 n\nWir laden alle Gründungsinteressenten herzlich zu unserem monatlichen 
 Gründungsstammtisch ein. B﻿ei einem kühlen Getränk könnt ihr euch mi
 t Gleichgesinnten auszutauschen\, offene Fragen von Experten beantworten z
 u lassen oder einfach einen Einblick in die Start-up Szene zu bekommen.
LAST-MODIFIED:20250906T011701Z
URL:https://www.uni-bonn.de/de/veranstaltungen/gruendungsstammtisch
END:VEVENT
BEGIN:VTIMEZONE
TZID:Europe/Berlin
X-LIC-LOCATION:Europe/Berlin
BEGIN:DAYLIGHT
DTSTART:20230326T030000
TZNAME:CEST
TZOFFSETFROM:+0100
TZOFFSETTO:+0200
END:DAYLIGHT
END:VTIMEZONE
END:VCALENDAR
