BEGIN:VCALENDAR
VERSION:2.0
PRODID:-//Plone.org//NONSGML plone.app.event//EN
X-WR-TIMEZONE:Europe/Berlin
BEGIN:VEVENT
SUMMARY:Gründungsstammtisch
DTSTART:20260311T170000
DTEND:20260311T200000
DTSTAMP:20260425T042519Z
UID:5158c9c21e6d4a8eb428b804819953a7@www.uni-bonn.de
CREATED:20260306T164934Z
DESCRIPTION:Du spielst mit dem Gedanken ein Start-up zu gründen? Du hast 
 bereits gegründet und kannst erste Erfahrungen teilen? Suchst du vielleic
 ht noch nach dem passenden Co-Founder für die Umsetzung deiner Idee? Oder
  bist du generell interessiert an der Start-up Szene und möchtest nur mal
  "reinschnuppern"? - Dann bist du bei uns genau richtig! Wir laden alle Gr
 ündungsinteressenten herzlich zu unserem monatlichen Gründungsstammtisch
  ein. B﻿ei einem kühlen Getränk besteht die Möglichkeit sich mit Glei
 chgesinnten auszutauschen\, offene Fragen von Experten beantworten zu lass
 en oder einfach einen Einblick in die Start-up Szene zu bekommen.
LAST-MODIFIED:20260309T061411Z
URL:https://www.uni-bonn.de/de/veranstaltungen/gruendungsstammtisch-3
END:VEVENT
BEGIN:VTIMEZONE
TZID:Europe/Berlin
X-LIC-LOCATION:Europe/Berlin
BEGIN:STANDARD
DTSTART:20251026T020000
TZNAME:CET
TZOFFSETFROM:+0200
TZOFFSETTO:+0100
END:STANDARD
END:VTIMEZONE
END:VCALENDAR
