BEGIN:VCALENDAR
VERSION:2.0
PRODID:-//Plone.org//NONSGML plone.app.event//EN
X-WR-TIMEZONE:Europe/Berlin
BEGIN:VEVENT
SUMMARY:Green Connect Treffen
DTSTART:20260218T170000
DTSTAMP:20260420T080752Z
UID:b610079a8678448eaae94ac55d0abaca@www.uni-bonn.de
CREATED:20260210T112800Z
DESCRIPTION:Ein Vernetzungstreffen für alle\, die sich für Nachhaltigkei
 t an der Uni interesieren. Diesesmal geht es um die Organisation der Ringv
 orlesung\, anstehende Events und allgemeine Updates. Kommt gerne vorbei!
LAST-MODIFIED:20260210T145323Z
URL:https://www.uni-bonn.de/de/veranstaltungen/green-connect-treffen
END:VEVENT
BEGIN:VTIMEZONE
TZID:Europe/Berlin
X-LIC-LOCATION:Europe/Berlin
BEGIN:STANDARD
DTSTART:20251026T020000
TZNAME:CET
TZOFFSETFROM:+0200
TZOFFSETTO:+0100
END:STANDARD
END:VTIMEZONE
END:VCALENDAR
