BEGIN:VCALENDAR
VERSION:2.0
PRODID:-//Plone.org//NONSGML plone.app.event//EN
X-WR-TIMEZONE:Europe/Berlin
BEGIN:VEVENT
SUMMARY:Getting serious with LEGO®
DTSTART:20230817T100000
DTEND:20230817T143000
DTSTAMP:20260422T093613Z
UID:d306aec157024871b31c81ca723ba768@www.uni-bonn.de
CREATED:20230704T104900Z
DESCRIPTION:Are you prepared to unleash your untapped potential through th
 e power of LEGO®?\nJoin us on a journey that will boost your professional
  and personal growth\, paving the way for a successful career in the corpo
 rate world\, as a founder\, or in science. In this dynamic workshop\, we w
 ill unlock the secrets of making a meaningful impact with your ideas and r
 esearch\, right here\, right now. By delving into your core values\, we'll
  use these invaluable insights to channel your creativity and enhance your
  productivity like never before.\nDon't miss out on this incredible opport
 unity. Register today and prepare to be amazed as we explore the fascinati
 ng world of LEGO® Serious Play.\n\nThis workshop for PhD students/PostDoc
 s is part of the Bonn Doctorate plus program and units can be acquired.
LAST-MODIFIED:20250906T011850Z
URL:https://www.uni-bonn.de/de/veranstaltungen/getting-serious-with-lego-r
 -2
END:VEVENT
BEGIN:VTIMEZONE
TZID:Europe/Berlin
X-LIC-LOCATION:Europe/Berlin
BEGIN:DAYLIGHT
DTSTART:20230326T030000
TZNAME:CEST
TZOFFSETFROM:+0100
TZOFFSETTO:+0200
END:DAYLIGHT
END:VTIMEZONE
END:VCALENDAR
