BEGIN:VCALENDAR
VERSION:2.0
PRODID:-//Plone.org//NONSGML plone.app.event//EN
X-WR-TIMEZONE:Europe/Berlin
BEGIN:VEVENT
SUMMARY:Geographie in Bonn
DTSTART;TZID=Europe/Berlin:20210623T181500
DTSTAMP:20260422T214655Z
UID:99785f6ae86049e88f294424bfa6a420@www.uni-bonn.de
CREATED:20210507T103445Z
DESCRIPTION:Prof. Dr. Winfried Schenk\, Universität Bonn\nGeographie in B
 onn: Kontinuitäten und Diskontinuitäten im Spiegel der Entwicklung der P
 rofessuren
LAST-MODIFIED:20221130T101620Z
URL:https://www.uni-bonn.de/de/veranstaltungen/geographie-in-bonn
END:VEVENT
BEGIN:VTIMEZONE
TZID:Europe/Berlin
X-LIC-LOCATION:Europe/Berlin
BEGIN:DAYLIGHT
DTSTART:20210328T030000
TZNAME:CEST
TZOFFSETFROM:+0100
TZOFFSETTO:+0200
END:DAYLIGHT
END:VTIMEZONE
END:VCALENDAR
