BEGIN:VCALENDAR
VERSION:2.0
PRODID:-//Plone.org//NONSGML plone.app.event//EN
X-WR-TIMEZONE:Europe/Berlin
BEGIN:VEVENT
SUMMARY:Freier Eintritt im P26 am Dies Academicus
DTSTART;VALUE=DATE:20250514
DTEND;VALUE=DATE:20250515
DTSTAMP:20260424T044548Z
UID:304e81bfeb7d46f7a7a34251ce6d9b9c@www.uni-bonn.de
CREATED:20250510T114216Z
DESCRIPTION:Am 14.05.2025 ist anlässlich des Dies Academicus der Eintritt
  für das gesamte Haus im P26 frei. Nutzen Sie die einmalige Gelegenheit\,
  um auf insgesamt vier Etagen unsere spannenden Ausstellungen und Museen z
 u erkunden!
LAST-MODIFIED:20250906T001439Z
URL:https://www.uni-bonn.de/de/veranstaltungen/freier-eintritt-im-p26-am-d
 ies-academicus
END:VEVENT
END:VCALENDAR
