BEGIN:VCALENDAR
VERSION:2.0
PRODID:-//Plone.org//NONSGML plone.app.event//EN
X-WR-TIMEZONE:Europe/Berlin
BEGIN:VEVENT
SUMMARY:FoSPRA Inaugural Event
DTSTART:20260428T180000
DTEND:20260428T190000
DTSTAMP:20260425T145340Z
UID:80664284ac18488fa84f0acaf3d0c87e@www.uni-bonn.de
CREATED:20260422T084818Z
DESCRIPTION:Primär richtet sich FoSPRA an Nachwuchsforschende und etablie
 rte Wissenschaftler:innen. Die Auftaktveranstaltung bietet die Chance\, da
 s Projekt näher kennenzulernen\, Ideen einzubringen und sich mit Gleichge
 sinnten zu vernetzen.
LAST-MODIFIED:20260422T091956Z
URL:https://www.uni-bonn.de/de/veranstaltungen/fospra-inaugural-event
END:VEVENT
BEGIN:VTIMEZONE
TZID:Europe/Berlin
X-LIC-LOCATION:Europe/Berlin
BEGIN:DAYLIGHT
DTSTART:20260329T030000
TZNAME:CEST
TZOFFSETFROM:+0100
TZOFFSETTO:+0200
END:DAYLIGHT
END:VTIMEZONE
END:VCALENDAR
