BEGIN:VCALENDAR
VERSION:2.0
PRODID:-//Plone.org//NONSGML plone.app.event//EN
X-WR-TIMEZONE:Europe/Berlin
BEGIN:VEVENT
SUMMARY:Forum Beruf "Medienwissenschaft"
DTSTART:20260623T180000
DTSTAMP:20260425T181419Z
UID:68d3e95a483f4b3c8b7b091735292f2c@www.uni-bonn.de
CREATED:20260422T144303Z
DESCRIPTION:In dieser Veranstaltungsreihe berichten Alumni über ihre Erfa
 hrungen bei der Berufswahl und dem Jobeinstieg. Im Rahmen der einzelnen Ve
 ranstaltungen berichten drei bis vier Absolvent*innen eines Studiengangs d
 er Universität Bonn über ihr berufliches Tätigkeitsfeld\, ihren Werdega
 ng sowie ihre Erfahrungen bei Berufswahl und Bewerbung. Anschließend best
 eht bei einem informellen Ausklang die Möglichkeit zur Diskussion und zur
  persönlichen Kontaktaufnahme mit den Referent*innen.\n\n"Forum Beruf" is
 t ein Angebot des Alumni-Netzwerks in Zusammenarbeit mit den Fakultäten u
 nd in Kooperation mit dem Career Service.\n\nEine Anmeldung ist nicht erfo
 rderlich. Alle interessierten Studierenden der Universität sind herzlich 
 willkommen.
LAST-MODIFIED:20260423T055211Z
URL:https://www.uni-bonn.de/de/veranstaltungen/forum-beruf-medienwissensch
 aft
END:VEVENT
BEGIN:VTIMEZONE
TZID:Europe/Berlin
X-LIC-LOCATION:Europe/Berlin
BEGIN:DAYLIGHT
DTSTART:20260329T030000
TZNAME:CEST
TZOFFSETFROM:+0100
TZOFFSETTO:+0200
END:DAYLIGHT
END:VTIMEZONE
END:VCALENDAR
