BEGIN:VCALENDAR
VERSION:2.0
PRODID:-//Plone.org//NONSGML plone.app.event//EN
X-WR-TIMEZONE:Europe/Berlin
BEGIN:VEVENT
SUMMARY:Feedback und Evaluation – Grundlagen
DTSTART:20261113T090000
DTEND:20261113T170000
DTSTAMP:20260425T200822Z
UID:4a2aa82b5c17412f8686d2d4d71ecfcd@www.uni-bonn.de
CREATED:20260116T084245Z
DESCRIPTION:Bei diesem Workshop handelt es sich um eine Veranstaltung im R
 ahmen des hochschuldidaktischen Qualifizierungsprogramms des Bonner Zentru
 ms für Hochschullehre (BZH). Die detaillierte Veranstaltungsbeschreibung 
 entnehmen Sie bitte unseren Internetseiten. Die hochschuldidaktischen Work
 shops des BZH stehen allen Lehrenden der Universität Bonn offen. Eine vor
 herige Anmeldung über Confluence ist erforderlich.
LAST-MODIFIED:20260116T084322Z
URL:https://www.uni-bonn.de/de/veranstaltungen/feedback-und-evaluation-gru
 ndlagen-5
END:VEVENT
BEGIN:VTIMEZONE
TZID:Europe/Berlin
X-LIC-LOCATION:Europe/Berlin
BEGIN:STANDARD
DTSTART:20261025T020000
TZNAME:CET
TZOFFSETFROM:+0200
TZOFFSETTO:+0100
END:STANDARD
END:VTIMEZONE
END:VCALENDAR
