BEGIN:VCALENDAR
VERSION:2.0
PRODID:-//Plone.org//NONSGML plone.app.event//EN
X-WR-TIMEZONE:Europe/Berlin
BEGIN:VEVENT
SUMMARY:Feature Kammermusik: Beziehungsstatus kompliziert
DTSTART:20250202T170000
DTEND:20250202T200000
DTSTAMP:20260424T082731Z
UID:edce729e47594bb0a9973dce915411fa@www.uni-bonn.de
CREATED:20250110T095148Z
DESCRIPTION:Die Reihe Feature Kammermusik präsentiert Ihnen ein Konzert d
 er ganz besonderen Art. Unter dem Titel "Die Schumanns und Brahms - Bezieh
 ungsstatus kompliziert" verschmelzen am 02.02.2025 und am 08.02.2025 die K
 unst der Musik und des Schauspiels\, um die Geschichte rund um die Schuman
 ns und Brahms zu erzählen.\n\nOhne Ticketreservierung\, Eintritt frei. \n
 Konzert I: \nSonntag\, der 02.02.2025\nEinlass: 16:30 Uhr \nBeginn: 17:00 
 Uhr \nOrt: Festsaal der Universität Bonn\nKonzert II: \nSamstag\, der 08.
 02.2025\nEinlass: 19:00 Uhr \nBeginn: 19:30 Uhr \nOrt: Das Gelbe Palais\, 
 Köln (Richard-Wagner-Straße 25 in 50674 Köln)\nProgramm: \nLieder und B
 ekenntnisse - ein Liederabend der besonderen Art.
LAST-MODIFIED:20250906T040423Z
URL:https://www.uni-bonn.de/de/veranstaltungen/feature-kammermusik-beziehu
 ngsstatus-kompliziert
END:VEVENT
BEGIN:VTIMEZONE
TZID:Europe/Berlin
X-LIC-LOCATION:Europe/Berlin
BEGIN:STANDARD
DTSTART:20241027T020000
TZNAME:CET
TZOFFSETFROM:+0200
TZOFFSETTO:+0100
END:STANDARD
END:VTIMEZONE
END:VCALENDAR
