BEGIN:VCALENDAR
VERSION:2.0
PRODID:-//Plone.org//NONSGML plone.app.event//EN
X-WR-TIMEZONE:Europe/Berlin
BEGIN:VEVENT
SUMMARY:Feature Kammermusik
DTSTART:20230429T180000
DTEND:20230429T200000
DTSTAMP:20260422T003431Z
UID:6472b8ee084e44c7b9eca63663afccc4@www.uni-bonn.de
CREATED:20230428T130902Z
DESCRIPTION:FEATURE KAMMERMUSIK\nSA 29. 18:00 Uhr | Universitätsmuseum\nJ
 ohannes Brahms: Sonate in e-Moll für Violoncello\nund Klavier\, op. 38\nS
 ergei Rachmaninow: Vocalise\, op. 34\, 14\nPjotr I. Tschaikowsky: Valse se
 ntimentale\, op. 51\, 6\nFranz Schubert: Ständchen D 957\nFrédéric Chop
 in: Polonaise brillante\, op. 3\nNils Wandel\, Violoncello | Christian Kle
 in\, Klavier
LAST-MODIFIED:20250906T011614Z
URL:https://www.uni-bonn.de/de/veranstaltungen/feature-kammermusik-1
END:VEVENT
BEGIN:VTIMEZONE
TZID:Europe/Berlin
X-LIC-LOCATION:Europe/Berlin
BEGIN:DAYLIGHT
DTSTART:20230326T030000
TZNAME:CEST
TZOFFSETFROM:+0100
TZOFFSETTO:+0200
END:DAYLIGHT
END:VTIMEZONE
END:VCALENDAR
