BEGIN:VCALENDAR
VERSION:2.0
PRODID:-//Plone.org//NONSGML plone.app.event//EN
X-WR-TIMEZONE:Europe/Berlin
BEGIN:VEVENT
SUMMARY:Evaluationsmethoden in der Lehre sinnvoll nutzen (WiSe 21)
DTSTART;TZID=Europe/Berlin:20220214T090000
DTEND:20220215T160000
DTSTAMP:20260420T015104Z
UID:996303e7092847929f2fdf5c906b2ac7@www.uni-bonn.de
CREATED:20210812T102005Z
DESCRIPTION:Bei diesem Workshop handelt es sich um eine Veranstaltung im R
 ahmen des hochschuldidaktischen Qualifizierungsprogramms des Bonner Zentru
 ms für Hochschullehre (BZH). Den detaillierten Veranstaltungskommentar en
 tnehmen Sie bitte unseren Internetseiten. Die hochschuldidaktischen Worksh
 ops des BZH stehen allen Lehrenden der Universität Bonn offen\; eine vorh
 erige Anmeldung über unser Online-Anmeldeformular ist erforderlich!
LAST-MODIFIED:20221130T101616Z
URL:https://www.uni-bonn.de/de/veranstaltungen/evaluationsmethoden-in-der-
 lehre-sinnvoll-nutzen-wise-21
END:VEVENT
BEGIN:VTIMEZONE
TZID:Europe/Berlin
X-LIC-LOCATION:Europe/Berlin
BEGIN:STANDARD
DTSTART:20211031T020000
TZNAME:CET
TZOFFSETFROM:+0200
TZOFFSETTO:+0100
END:STANDARD
END:VTIMEZONE
END:VCALENDAR
