BEGIN:VCALENDAR
VERSION:2.0
PRODID:-//Plone.org//NONSGML plone.app.event//EN
X-WR-TIMEZONE:Europe/Berlin
BEGIN:VEVENT
SUMMARY:eTutor*innenschulung: Einstieg in die digitale Lehre
DTSTART;TZID=Europe/Berlin:20211004T120000
DTEND:20211004T130000
DTSTAMP:20260424T054620Z
UID:0f182b50f4ea4ff08e19a4cfe375cfb4@www.uni-bonn.de
CREATED:20210730T093713Z
DESCRIPTION:Bei dieser Veranstaltung handelt es sich um ein Angebot des Bo
 nner Zentrums für Hochschullehre (BZH)\, das sich an alle studentischen T
 utor*innen und Mentor*innen der Universität Bonn richtet. Den detailliert
 en Veranstaltungskommentar und das Anmeldeverfahren entnehmen Sie bitte un
 seren Internetseiten\; eine vorherige Anmeldung ist erforderlich!
LAST-MODIFIED:20221130T101621Z
URL:https://www.uni-bonn.de/de/veranstaltungen/etutor-innenschulung-einsti
 eg-in-die-digitale-lehre
END:VEVENT
BEGIN:VTIMEZONE
TZID:Europe/Berlin
X-LIC-LOCATION:Europe/Berlin
BEGIN:DAYLIGHT
DTSTART:20210328T030000
TZNAME:CEST
TZOFFSETFROM:+0100
TZOFFSETTO:+0200
END:DAYLIGHT
END:VTIMEZONE
END:VCALENDAR
