BEGIN:VCALENDAR
VERSION:2.0
PRODID:-//Plone.org//NONSGML plone.app.event//EN
X-WR-TIMEZONE:Europe/Berlin
BEGIN:VEVENT
SUMMARY:Diversity Days 2025 Tag 1
DTSTART:20250526T153000
DTEND:20250526T203000
DTSTAMP:20260422T051437Z
UID:5766991f08474e3f87051e086479fff9@www.uni-bonn.de
CREATED:20250515T132412Z
DESCRIPTION:Die Diversity Days an der Uni Bonn finden dieses Jahr zum Them
 a „Familie neu gedacht: Vielfalt &Vereinbarkeit“ statt. In Kooperation
  mit dem Familienbüro werfen wir einen Blick auf die Vereinbarkeit von Wi
 ssenschaft und Familie\, besonders auch in Bezug auf Frauen und LGBTQIA*-P
 ersonen.\n\nAm Montag werden die Diversity Days um 16:00 Uhr mit zwei Vort
 rägen zum Thema Queerness und Familie eröffnet. Sascha Sistenich spricht
  über die Definition des Familienbegriffs und wie queere Perspektiven uns
 er Verständnis von Fürsorge verändern können. Ihm folgt Leah Petersen 
 mit einem Vortrag zu Dynamiken zwischen jungen nicht-binären Personen und
  ihren Eltern. Anschließend sind die beiden Vortragenden in einer Podiums
 diskussion mit Birgit Brockerhoff\, Lenny Streit und Elissar Zanubia El-Ma
 rouk zum Thema Wahlfamilien zu hören. Der Abend wird ab 18:30 durch eine 
 Lesung mit Dr. Sarah Czerney und Dr. Lena Eckert zur Vereinbarkeit von Arb
 eit und Kindern für Eltern in der Wissenschaft abgeschlossen.
LAST-MODIFIED:20250906T033301Z
URL:https://www.uni-bonn.de/de/veranstaltungen/diversity-days-2025-tag-1
END:VEVENT
BEGIN:VTIMEZONE
TZID:Europe/Berlin
X-LIC-LOCATION:Europe/Berlin
BEGIN:DAYLIGHT
DTSTART:20250330T030000
TZNAME:CEST
TZOFFSETFROM:+0100
TZOFFSETTO:+0200
END:DAYLIGHT
END:VTIMEZONE
END:VCALENDAR
