BEGIN:VCALENDAR
VERSION:2.0
PRODID:-//Plone.org//NONSGML plone.app.event//EN
X-WR-TIMEZONE:Europe/Berlin
BEGIN:VEVENT
SUMMARY:Digitale Transformation in Japan
DTSTART;TZID=Europe/Berlin:20210428T180000
DTEND:20210428T193000
DTSTAMP:20260423T021635Z
UID:f1bbed915c8b49ff89011b1bdba3eb79@www.uni-bonn.de
CREATED:20210420T141818Z
DESCRIPTION:"Digitale Transformation und ihre Auswirkungen auf Wirtschaft 
 und Gesellschaft in Japan".\nDas vorzustellende Projekt zielt darauf ab\, 
 den Wandel von Wirtschaft und Gesellschaft angesichts der fortschreitenden
  „Digitalen Transformation“ in einer Forschungskooperation mit den Wis
 senschaftlern unserer Partneruniversitäten Waseda\, Dōshisha und Shizuok
 a zu analysieren und unsere wissenschaftlichen Austauschbeziehungen zu ver
 stetigen.\n-- Teil der Ringvorlesung "Deutsch-Japanische Wissenschaftskoop
 erationen am Rhein"\, die als Zoom-Webinar stattfindet.\nReferent: Dr. NIS
 HIYAMA Takahiro (Institut für Orient- und Asienwissenschaften\, Bonn). Pa
 rtner: Prof. ITÔ Mamoru (Waseda Universität)\, Prof. Dr. ÔTA Takayuki (
 Universität Shizuoka)\, Prof. Dr. WADA Yoshinori (Dōshisha Universität)
LAST-MODIFIED:20221130T101619Z
URL:https://www.uni-bonn.de/de/veranstaltungen/digitale-transformation-in-
 japan
END:VEVENT
BEGIN:VTIMEZONE
TZID:Europe/Berlin
X-LIC-LOCATION:Europe/Berlin
BEGIN:DAYLIGHT
DTSTART:20210328T030000
TZNAME:CEST
TZOFFSETFROM:+0100
TZOFFSETTO:+0200
END:DAYLIGHT
END:VTIMEZONE
END:VCALENDAR
