BEGIN:VCALENDAR
VERSION:2.0
PRODID:-//Plone.org//NONSGML plone.app.event//EN
X-WR-TIMEZONE:Europe/Berlin
BEGIN:VEVENT
SUMMARY:Digital Metaphor Analysis and Tibetan Buddhist Lineages
DTSTART;TZID=Europe/Berlin:20230613T181500
DTEND;TZID=Europe/Berlin:20230613T194500
DTSTAMP:20260424T074503Z
UID:ae1ec610fb0a49078ad3cac40d281e46@www.uni-bonn.de
CREATED:20230424T135006Z
DESCRIPTION:Die Veranstaltung ist die achte der Ringvorlesung "Digitalizat
 ion of Memory Practices and Heritages in Global Perspectives." \n\nDie Ver
 anstaltung ist hybrid angelegt\, womit die Teilnahme in Präsenz und auf d
 igitalem Weg möglich ist. \n\nFalls Sie über Zoom teilnehmen möchten\, 
 wird um eine frühzeitige Anmeldung per E-Mail an kranzant@uni-bonn.de wir
 d gebeten. Wenn Sie in Präsenz teilnehmen möchten\, ist keine Anmeldung 
 erforderlich.\n\nDie Sprache der Veranstaltung ist Englisch.
LAST-MODIFIED:20230427T075321Z
URL:https://www.uni-bonn.de/de/veranstaltungen/digital-metaphor-analysis-a
 nd-tibetan-buddhist-lineages
END:VEVENT
BEGIN:VTIMEZONE
TZID:Europe/Berlin
X-LIC-LOCATION:Europe/Berlin
BEGIN:DAYLIGHT
DTSTART:20230326T030000
TZNAME:CEST
TZOFFSETFROM:+0100
TZOFFSETTO:+0200
END:DAYLIGHT
END:VTIMEZONE
END:VCALENDAR
