BEGIN:VCALENDAR
VERSION:2.0
PRODID:-//Plone.org//NONSGML plone.app.event//EN
X-WR-TIMEZONE:Europe/Berlin
BEGIN:VEVENT
SUMMARY:Data Act & AI Act - Was Start-ups wissen müssen
DTSTART:20250520T160000
DTEND:20250520T180000
DTSTAMP:20260424T051203Z
UID:10e1c59079944566a9eac38a84f71ca7@www.uni-bonn.de
CREATED:20250416T132030Z
DESCRIPTION:Welche neuen Herausforderungen und Chancen bringen der Data Ac
 t und der AI Act für Startups?\n\nLina Mondry\, Rechtsanwältin bei Osbor
 ne Clarke\, gibt einen kompakten Überblick über die neuen rechtlichen Vo
 rgaben.\n\nWarum sind diese Gesetze besonders für junge Unternehmen relev
 ant?\n\nWelche Auswirkungen haben sie auf die Nutzung und Verarbeitung von
  Daten sowie auf KI-gestützte Geschäftsmodelle?\n\nNach einem 20-minüti
 gen Impulsvortrag haben Sie die Möglichkeit\, im Q&A direkt Ihre Fragen z
 u stellen und praxisnahe Antworten zu erhalten.
LAST-MODIFIED:20250906T020810Z
URL:https://www.uni-bonn.de/de/veranstaltungen/data-act-ai-act-was-start-u
 ps-wissen-muessen
END:VEVENT
BEGIN:VTIMEZONE
TZID:Europe/Berlin
X-LIC-LOCATION:Europe/Berlin
BEGIN:DAYLIGHT
DTSTART:20250330T030000
TZNAME:CEST
TZOFFSETFROM:+0100
TZOFFSETTO:+0200
END:DAYLIGHT
END:VTIMEZONE
END:VCALENDAR
