BEGIN:VCALENDAR
VERSION:2.0
PRODID:-//Plone.org//NONSGML plone.app.event//EN
X-WR-TIMEZONE:Europe/Berlin
BEGIN:VEVENT
SUMMARY:Cup Pong Tournament
DTSTART;TZID=Europe/Berlin:20250426T193000
DTSTAMP:20260420T163314Z
UID:c936939b50bf48b680a022b68a8836fe@www.uni-bonn.de
CATEGORIES:International Office,6.3,Campus International,Internationaler C
 lub,Studierende,Promovierende
CREATED:20250320T103509Z
DESCRIPTION:Zeit für Spaß und freundschaftlichen Wettkampf! Schnapp dir 
 deine Freunde\, bring deine besten Würfe mit und sei dabei beim Cup Pong 
 Turnier\, das du nicht verpassen willst. Es geht um gute Stimmung\, Lachen
  und vielleicht ein bisschen freundschaftliche Rivalität. Vergiss nicht\,
  dein eigenes Getränk mitzubringen!(Internationaler Club)
LAST-MODIFIED:20250906T031846Z
URL:https://www.uni-bonn.de/de/veranstaltungen/cup-pong-tournament
END:VEVENT
BEGIN:VTIMEZONE
TZID:Europe/Berlin
X-LIC-LOCATION:Europe/Berlin
BEGIN:DAYLIGHT
DTSTART:20250330T030000
TZNAME:CEST
TZOFFSETFROM:+0100
TZOFFSETTO:+0200
END:DAYLIGHT
END:VTIMEZONE
END:VCALENDAR
