BEGIN:VCALENDAR
VERSION:2.0
PRODID:-//Plone.org//NONSGML plone.app.event//EN
X-WR-TIMEZONE:Europe/Berlin
BEGIN:VEVENT
SUMMARY:Christopher Street Day (CSD)\, Koblenz
DTSTART;TZID=Europe/Berlin:20240817T124500
DTSTAMP:20260425T185807Z
UID:98ff3237ea394a5d9d26b59255516c3a@www.uni-bonn.de
CATEGORIES:International,International Office,Campus International,Interna
 tionaler Club,Studierende
CREATED:20240802T092639Z
DESCRIPTION:Du hast Lust auf einen CSD und suchst noch Leute\, mit denen d
 u feiern kannst? Dann ist das eine gute Gelegenheit\, mit uns zum CSD Kobl
 enz zu fahren! Wir freuen uns darauf\, dieses Erlebnis mit dir zu teilen! 
 (Internationaler Club)
LAST-MODIFIED:20250906T033949Z
URL:https://www.uni-bonn.de/de/veranstaltungen/csd-christopher-street-day-
 koblenz
END:VEVENT
BEGIN:VTIMEZONE
TZID:Europe/Berlin
X-LIC-LOCATION:Europe/Berlin
BEGIN:DAYLIGHT
DTSTART:20240331T030000
TZNAME:CEST
TZOFFSETFROM:+0100
TZOFFSETTO:+0200
END:DAYLIGHT
END:VTIMEZONE
END:VCALENDAR
