BEGIN:VCALENDAR
VERSION:2.0
PRODID:-//Plone.org//NONSGML plone.app.event//EN
X-WR-TIMEZONE:Europe/Berlin
BEGIN:VEVENT
SUMMARY:Crowd solving challenges: Making sustainable excursions possible
DTSTART:20250129T121500
DTEND:20250129T131500
DTSTAMP:20260419T182517Z
UID:97066707854f4a63aa2cc9936c12c257@www.uni-bonn.de
CREATED:20241024T105655Z
DESCRIPTION:Crowd solving challenges at GIUB: Making sustainable excursion
 s possible\n\nPodiumsdiskussio
LAST-MODIFIED:20241024T115123Z
URL:https://www.uni-bonn.de/de/veranstaltungen/crowd-solving-challenges-ma
 king-sustainable-excursions-possible
END:VEVENT
BEGIN:VTIMEZONE
TZID:Europe/Berlin
X-LIC-LOCATION:Europe/Berlin
BEGIN:STANDARD
DTSTART:20241027T020000
TZNAME:CET
TZOFFSETFROM:+0200
TZOFFSETTO:+0100
END:STANDARD
END:VTIMEZONE
END:VCALENDAR
