BEGIN:VCALENDAR
VERSION:2.0
PRODID:-//Plone.org//NONSGML plone.app.event//EN
X-WR-TIMEZONE:Europe/Berlin
BEGIN:VEVENT
SUMMARY:Corporate Venturing & Corporate Investors
DTSTART:20250603T150000
DTEND:20250603T170000
DTSTAMP:20260424T074525Z
UID:602f8866e9fb486aaa5b6f062ce669ae@www.uni-bonn.de
CREATED:20250422T104909Z
DESCRIPTION:Start-ups und Konzerne – eine vielversprechende Verbindung o
 der eine riskante Abhängigkeit?\n\nDr. Philipp Wüllrich\, Partner bei Fo
 rvis Mazars\, gibt Einblicke in die Strategien von Corporate Ventures und 
 zeigt auf\, welche Klauseln Konzerne vorschreiben.\n\nWie unterscheiden si
 ch Joint Ventures und Vertriebsverträge?\n\nUnd worauf sollten Start-ups 
 achten\, bevor sie sich langfristig an einen Corporate Investor binden?\n\
 nIn diesem interaktiven Vortrag erfahren Sie\, welche Chancen und Herausfo
 rderungen Corporate Investments mit sich bringen und wie Sie vertragliche 
 Stolperfallen vermeiden.\n\nNutzen Sie die Gelegenheit\, Ihre Fragen direk
 t mit einem Experten zu diskutieren und wertvolle Insights für Ihre Start
 -up-Strategie zu gewinnen!
LAST-MODIFIED:20250906T005828Z
URL:https://www.uni-bonn.de/de/veranstaltungen/corporate-venturing-corpora
 te-investors
END:VEVENT
BEGIN:VTIMEZONE
TZID:Europe/Berlin
X-LIC-LOCATION:Europe/Berlin
BEGIN:DAYLIGHT
DTSTART:20250330T030000
TZNAME:CEST
TZOFFSETFROM:+0100
TZOFFSETTO:+0200
END:DAYLIGHT
END:VTIMEZONE
END:VCALENDAR
