BEGIN:VCALENDAR
VERSION:2.0
PRODID:-//Plone.org//NONSGML plone.app.event//EN
X-WR-TIMEZONE:Europe/Berlin
BEGIN:VEVENT
SUMMARY:Fit ins Vorstellungsgespräch
DTSTART;TZID=Europe/Berlin:20211209T093000
DTEND;TZID=Europe/Berlin:20211209T163000
DTSTAMP:20260426T035253Z
UID:8d863c80c42e441b9cdf7317694296f4@www.uni-bonn.de
CREATED:20210421T134945Z
DESCRIPTION:Endlich liegt eine Einladung zum Vorstellungsgespräch vor –
  sei es für einen Nebenjob im Studium\, ein Praktikum oder den ersten Job
  nach dem Studium.\nDoch was nun? Was erwartet mich? Worauf kommt es an? W
 ie bereite ich mich vor? Wie gehe ich mit Stressfragen um? Wo bekomme ich 
 Informationen zum Gehalt?\nDieser Workshop gibt Antworten auf diese und vi
 ele andere Fragen rund um das Vorstellungsgespräch.
LAST-MODIFIED:20221130T101615Z
URL:https://www.uni-bonn.de/de/veranstaltungen/copy_of_fit-ins-vorstellung
 sgespraech-workshop
END:VEVENT
BEGIN:VTIMEZONE
TZID:Europe/Berlin
X-LIC-LOCATION:Europe/Berlin
BEGIN:STANDARD
DTSTART:20211031T020000
TZNAME:CET
TZOFFSETFROM:+0200
TZOFFSETTO:+0100
END:STANDARD
END:VTIMEZONE
END:VCALENDAR
