BEGIN:VCALENDAR
VERSION:2.0
PRODID:-//Plone.org//NONSGML plone.app.event//EN
X-WR-TIMEZONE:Europe/Berlin
BEGIN:VEVENT
SUMMARY:Bewerben - aber richtig!
DTSTART;TZID=Europe/Berlin:20220217T093000
DTEND;TZID=Europe/Berlin:20220217T163000
DTSTAMP:20260422T182409Z
UID:763b8613b12a4cc5b7f7e0c201970e4e@www.uni-bonn.de
CATEGORIES:Übergang Studium Beruf,Besser digital studieren
CREATED:20210421T141142Z
DESCRIPTION:Das Finden interessanter Stellenausschreibungen\, die Erstellu
 ng passender Bewerbungsunterlagen und ein gutes Auftreten im Vorstellungsg
 espräch – all‘ dies führt hoffentlich zur erhofften Zusage für die 
 gewünschte Stelle.\n\nIn diesem Workshop erhalten die Studierenden Einbli
 ck in die aktuellen Trends der Bewerbungsverfahren. Am Ende des Workshops 
 können sie zielorientiert Arbeitgeber ansprechen und fundierte Bewerbungs
 unterlagen erstellen.\n\nDurch die Kompetenzanalyse sollen sie Sicherheit 
 bei der Formulierung ihrer Argrumente für die Bewerbung erhalten. Die Tei
 lnehmenden lernen die Trends der Bewerbungsverfahren kennen\, die flankier
 end zur schriftlichen Bewerbung bis zum Vorstellungsgespräch zum Einsatz 
 kommen.\n\nAbschließend wird auf das Vorstellungsgespräch eingegangen\, 
 wobei typische Fragen in einer Übung vertieft werden.
LAST-MODIFIED:20221130T101615Z
URL:https://www.uni-bonn.de/de/veranstaltungen/copy_of_bewerben-aber-richt
 ig
END:VEVENT
BEGIN:VTIMEZONE
TZID:Europe/Berlin
X-LIC-LOCATION:Europe/Berlin
BEGIN:STANDARD
DTSTART:20211031T020000
TZNAME:CET
TZOFFSETFROM:+0200
TZOFFSETTO:+0100
END:STANDARD
END:VTIMEZONE
END:VCALENDAR
