BEGIN:VCALENDAR
VERSION:2.0
PRODID:-//Plone.org//NONSGML plone.app.event//EN
X-WR-TIMEZONE:Europe/Berlin
BEGIN:VEVENT
SUMMARY:Coloniality and Collecting
DTSTART:20230525T163000
DTEND:20230525T173000
DTSTAMP:20260426T011106Z
UID:ababd31c1f1e46668bd8b223b68e69a5@www.uni-bonn.de
CREATED:20230427T072942Z
DESCRIPTION:Im Rahmen des Projektes 'We Build Our Languages Out Of Rocks
 —Transpositional Geologies' laden wir zu dem öffentlichen Vortrag 'Colo
 niality and collecting: extractivism and the production of knowledge – m
 aterials and material culture.' von Prof. Dr. Paul Basu ein.
LAST-MODIFIED:20250906T011611Z
URL:https://www.uni-bonn.de/de/veranstaltungen/coloniality-and-collecting
END:VEVENT
BEGIN:VTIMEZONE
TZID:Europe/Berlin
X-LIC-LOCATION:Europe/Berlin
BEGIN:DAYLIGHT
DTSTART:20230326T030000
TZNAME:CEST
TZOFFSETFROM:+0100
TZOFFSETTO:+0200
END:DAYLIGHT
END:VTIMEZONE
END:VCALENDAR
