BEGIN:VCALENDAR
VERSION:2.0
PRODID:-//Plone.org//NONSGML plone.app.event//EN
X-WR-TIMEZONE:Europe/Berlin
BEGIN:VEVENT
SUMMARY:Cognitive functions in epilepsy
DTSTART:20250625T160000
DTEND:20250625T173000
DTSTAMP:20260422T110807Z
UID:f2406ea693904821936fca372ced14a7@www.uni-bonn.de
CREATED:20250213T151010Z
DESCRIPTION:"Cognitive functions in epilepsy – impact and novel technolo
 gies for assessment."\nVortrag von Prof. Dr. phil. Christoph Helmstaedter\
 , Klinik und Poliklinik für Epileptologie\, Universitätsklinikum Bonn im
  Rahmen des Bonner Epilepsie Seminars.\n\nWir bieten das Bonner Epilepsie 
 Seminar als Hybrid-Veranstaltung an\, d.h. mit der Möglichkeit\, entweder
  vor Ort im Seminarraum der Klinik und Poliklinik für Epileptologie oder 
 per Zoom-Link den Vorträgen zu folgen. Bitte melden Sie sich an unter: ep
 i.event@ukbonn.de
LAST-MODIFIED:20250906T042015Z
URL:https://www.uni-bonn.de/de/veranstaltungen/cognitive-functions-in-epil
 epsy
END:VEVENT
BEGIN:VTIMEZONE
TZID:Europe/Berlin
X-LIC-LOCATION:Europe/Berlin
BEGIN:DAYLIGHT
DTSTART:20250330T030000
TZNAME:CEST
TZOFFSETFROM:+0100
TZOFFSETTO:+0200
END:DAYLIGHT
END:VTIMEZONE
END:VCALENDAR
