BEGIN:VCALENDAR
VERSION:2.0
PRODID:-//Plone.org//NONSGML plone.app.event//EN
X-WR-TIMEZONE:Europe/Berlin
BEGIN:VEVENT
SUMMARY:CIO-Krebs-Informationstag 2022
DTSTART;TZID=Europe/Berlin:20220910T090000
DTEND:20220910T153000
DTSTAMP:20260425T015458Z
UID:eb33071d633a442fb23796bbb8aa6bb2@www.uni-bonn.de
CREATED:20220309T155130Z
DESCRIPTION:Das Centrum für Integrierte Onkologie Aachen Bonn Köln\nDüs
 seldorf (CIO) am Universitätsklinikum Bonn veranstaltet\nden Informations
 tag gemeinsam mit dem Tumorzentrum\nBonn und der Leukämie-Initiative Bonn
 .\nZiel des Informationstags ist\, Ihnen aktuelle Themen einer\nmodernen K
 rebstherapie auf verständliche Art und Weise vorzustellen\nund den Austau
 sch mit ausgewiesenen Expertinnen\nund Experten zu ermöglichen.\nDie Teil
 nahme an der Veranstaltung ist kostenlos.\nÜber Ihre Teilnahme und eine r
 ege Diskussion würden wir uns\nsehr freuen!\nCIO Bonn\, Tumorzentrum Bonn
  e.V.\,\nLeukämie Initiative Bonn e.V.
LAST-MODIFIED:20250906T030618Z
URL:https://www.uni-bonn.de/de/veranstaltungen/cio-krebs-informationstag-2
 022
END:VEVENT
BEGIN:VTIMEZONE
TZID:Europe/Berlin
X-LIC-LOCATION:Europe/Berlin
BEGIN:DAYLIGHT
DTSTART:20220327T030000
TZNAME:CEST
TZOFFSETFROM:+0100
TZOFFSETTO:+0200
END:DAYLIGHT
END:VTIMEZONE
END:VCALENDAR
