BEGIN:VCALENDAR
VERSION:2.0
PRODID:-//Plone.org//NONSGML plone.app.event//EN
X-WR-TIMEZONE:Europe/Berlin
BEGIN:VEVENT
SUMMARY:Buchvorstellung mit Generalbundesanwalt Dr. Peter Frank
DTSTART;TZID=Europe/Berlin:20220317T193000
DTEND:20220317T210000
DTSTAMP:20260424T052551Z
UID:8d9d3444d3934365a1f6ab915614f87b@www.uni-bonn.de
CREATED:20220307T080315Z
DESCRIPTION:"Staatsschutz im Kalten Krieg. Die Bundesanwaltschaft zwischen
  NS-Vergangenheit\, Spiegel-Affaire und RAF". Buchvorstellung und Gespräc
 h mit Generalbundesanwalt Dr. Peter Frank sowie den beiden Autoren Prof. D
 r. Friedrich Kießling\, Universität Bonn\, und Prof. Dr. Christoph Saffe
 rling\, Universität Erlangen-Nürnberg. \n\nErstmals wird in diesem Buch 
 die Geschichte der Bundesanwaltschaft zwischen 1950 und 1974 erforscht. Es
  wirft ein Schlaglicht auf die heute hochaktuelle Frage\, wie eine Demokra
 tie den Staat schützen kann\, ohne die eigenen Werte zu verraten.\n\nDer 
 Eintritt ist frei\, eine Anmeldung ist erforderlich über: https://www.hdg
 .de/haus-der-geschichte/veranstaltungen/staatsschutz-im-kalten-krieg-17-03
 -2022
LAST-MODIFIED:20250906T030616Z
URL:https://www.uni-bonn.de/de/veranstaltungen/buchvorstellung-mit-general
 bundesanwalt-dr-peter-frank
END:VEVENT
BEGIN:VTIMEZONE
TZID:Europe/Berlin
X-LIC-LOCATION:Europe/Berlin
BEGIN:STANDARD
DTSTART:20211031T020000
TZNAME:CET
TZOFFSETFROM:+0200
TZOFFSETTO:+0100
END:STANDARD
END:VTIMEZONE
END:VCALENDAR
