BEGIN:VCALENDAR
VERSION:2.0
PRODID:-//Plone.org//NONSGML plone.app.event//EN
X-WR-TIMEZONE:Europe/Berlin
BEGIN:VEVENT
SUMMARY:Bonner Epilepsie Seminar
DTSTART;TZID=Europe/Berlin:20230215T160000
DTEND:20230215T173000
DTSTAMP:20260422T051600Z
UID:6e20016520e2462ba48f39fb69bac523@www.uni-bonn.de
CREATED:20221010T090604Z
DESCRIPTION:Vortrag von Prof. Sylvain Rheims (Department of Functional Neu
 rology and Epileptology\, Hospices Civils de Lyon and University of Lyon\,
  Frankreich) zum Thema\n"Stereo-EEG-guided treatment of tuberous sclerosis
  and nodular heterotopias"\n\nWir bieten das Bonner Epilepsie Seminar als 
 Hybrid-Veranstaltung an\, d.h. mit der Möglichkeit\, entweder vor Ort im 
 Seminarraum der Klinik und Poliklinik für Epileptologie oder per Zoom-Lin
 k den Vorträgen zu folgen. Bitte melden Sie sich an unter: epi.event@ukbo
 nn.de
LAST-MODIFIED:20250906T011246Z
URL:https://www.uni-bonn.de/de/veranstaltungen/bonner-epilepsie-seminar-4
END:VEVENT
BEGIN:VTIMEZONE
TZID:Europe/Berlin
X-LIC-LOCATION:Europe/Berlin
BEGIN:STANDARD
DTSTART:20221030T020000
TZNAME:CET
TZOFFSETFROM:+0200
TZOFFSETTO:+0100
END:STANDARD
END:VTIMEZONE
END:VCALENDAR
