BEGIN:VCALENDAR
VERSION:2.0
PRODID:-//Plone.org//NONSGML plone.app.event//EN
X-WR-TIMEZONE:Europe/Berlin
BEGIN:VEVENT
SUMMARY:Bonner Epilepsie Seminar
DTSTART;TZID=Europe/Berlin:20230111T160000
DTEND:20230111T173000
DTSTAMP:20260422T051611Z
UID:3951eb44a4944afd8b753ab49f0159c0@www.uni-bonn.de
CREATED:20221010T090221Z
DESCRIPTION:Vortrag von Prof. Nicola Specchio (Department of Neuroscience\
 , Bambino Gesù Children‘s Hospital\, IRCCS\, Rom\, Italien) zum Thema\n
 "FIRES and NORSE"\n\nWir bieten das Bonner Epilepsie Seminar als Hybrid-Ve
 ranstaltung an\, d.h. mit der Möglichkeit\, entweder vor Ort im Seminarra
 um der Klinik und Poliklinik für Epileptologie oder per Zoom-Link den Vor
 trägen zu folgen. Bitte melden Sie sich an unter: epi.event@ukbonn.de
LAST-MODIFIED:20250906T011246Z
URL:https://www.uni-bonn.de/de/veranstaltungen/bonner-epilepsie-seminar-3
END:VEVENT
BEGIN:VTIMEZONE
TZID:Europe/Berlin
X-LIC-LOCATION:Europe/Berlin
BEGIN:STANDARD
DTSTART:20221030T020000
TZNAME:CET
TZOFFSETFROM:+0200
TZOFFSETTO:+0100
END:STANDARD
END:VTIMEZONE
END:VCALENDAR
