BEGIN:VCALENDAR
VERSION:2.0
PRODID:-//Plone.org//NONSGML plone.app.event//EN
X-WR-TIMEZONE:Europe/Berlin
BEGIN:VEVENT
SUMMARY:Bigband-Battle
DTSTART:20230507T180000
DTEND:20230507T200000
DTSTAMP:20260425T144901Z
UID:e8b68871728c46e1befc88d8c14f33d1@www.uni-bonn.de
CREATED:20230331T160626Z
DESCRIPTION:Bigband-Battle mit den Unibigbands Aachen und Siegen im Rahmen
  des 3. Deutschen Unibigband-Festivals #3dubbf
LAST-MODIFIED:20250906T011510Z
URL:https://www.uni-bonn.de/de/veranstaltungen/bigband-battle-2
END:VEVENT
BEGIN:VTIMEZONE
TZID:Europe/Berlin
X-LIC-LOCATION:Europe/Berlin
BEGIN:DAYLIGHT
DTSTART:20230326T030000
TZNAME:CEST
TZOFFSETFROM:+0100
TZOFFSETTO:+0200
END:DAYLIGHT
END:VTIMEZONE
END:VCALENDAR
