BEGIN:VCALENDAR
VERSION:2.0
PRODID:-//Plone.org//NONSGML plone.app.event//EN
X-WR-TIMEZONE:Europe/Berlin
BEGIN:VEVENT
SUMMARY:Bergfest
DTSTART;TZID=Europe/Berlin:20260609T140000
DTEND;TZID=Europe/Berlin:20260609T180000
DTSTAMP:20260423T060904Z
UID:d5004f1165b34e6396b242ccbf90ffa6@www.uni-bonn.de
CATEGORIES:Studienverlauf,Studienzweifel,Studierende,ZSB
CREATED:20230504T150414Z
DESCRIPTION:Ihr habt die Hälfte der Studienzeit geschafft? Super! Kommt z
 um Bergfest\, stärkt euch am Food Truck\, gönnt euch eine Schorle\, ents
 pannt euch beim Yoga und genießt den Botanischen Garten. Nutzt die Empowe
 rment Stationen\, schlendert durch den Posterwalk\, erlernt Entspannungste
 chniken und erhaltet auf dem Beratungsmarkt Tipps für den Auslandsaufenth
 alt oder zum Thema berufliche Orientierung. Beim Bergfest wollen wir gemei
 nsam feiern und euch für euren weiteren Studienweg empowern.
LAST-MODIFIED:20251020T122443Z
URL:https://www.uni-bonn.de/de/veranstaltungen/bergfest
END:VEVENT
BEGIN:VTIMEZONE
TZID:Europe/Berlin
X-LIC-LOCATION:Europe/Berlin
BEGIN:DAYLIGHT
DTSTART:20260329T030000
TZNAME:CEST
TZOFFSETFROM:+0100
TZOFFSETTO:+0200
END:DAYLIGHT
END:VTIMEZONE
END:VCALENDAR
