BEGIN:VCALENDAR
VERSION:2.0
PRODID:-//Plone.org//NONSGML plone.app.event//EN
X-WR-TIMEZONE:Europe/Berlin
BEGIN:VEVENT
SUMMARY:Aktivierende Methoden der Textarbeit in der Lehre
DTSTART:20241029T090000
DTEND:20241029T170000
DTSTAMP:20260424T074253Z
UID:01216883b61a4a6e8c7d452abaf8f634@www.uni-bonn.de
CREATED:20240806T100305Z
DESCRIPTION:Bei diesem Workshop handelt es sich um eine Veranstaltung im R
 ahmen des hochschuldidaktischen Qualifizierungsprogramms des Bonner Zentru
 ms für Hochschullehre (BZH). Den detaillierten Veranstaltungskommentar en
 tnehmen Sie bitte unseren Internetseiten. Die hochschuldidaktischen Worksh
 ops des BZH stehen allen Lehrenden der Universität Bonn offen\; eine vorh
 erige Anmeldung über unser Online-Anmeldeformular ist erforderlich!
LAST-MODIFIED:20250906T033949Z
URL:https://www.uni-bonn.de/de/veranstaltungen/aktivierende-methoden-der-t
 extarbeit-in-der-lehre-3
END:VEVENT
BEGIN:VTIMEZONE
TZID:Europe/Berlin
X-LIC-LOCATION:Europe/Berlin
BEGIN:STANDARD
DTSTART:20241027T020000
TZNAME:CET
TZOFFSETFROM:+0200
TZOFFSETTO:+0100
END:STANDARD
END:VTIMEZONE
END:VCALENDAR
