BEGIN:VCALENDAR
VERSION:2.0
PRODID:-//Plone.org//NONSGML plone.app.event//EN
X-WR-TIMEZONE:Europe/Berlin
BEGIN:VEVENT
SUMMARY:Academic Writing
DTSTART;TZID=Europe/Berlin:20260306T160000
DTEND;TZID=Europe/Berlin:20260315T130000
DTSTAMP:20260423T040412Z
UID:0947352abbf840cfb062ab95016a456e@www.uni-bonn.de
CREATED:20260219T103013Z
DESCRIPTION:„Academic Writing: Entspannt zum eigenen wissenschaftlichen 
 Text auf Englisch“ ist ein studienbegleitendes Kursangebot für Studiere
 nde der Geisteswissenschaften (mit Anschlussmöglichkeiten für Studierend
 e anderer Fakultäten)\, die im Studium englischsprachige Seminar- oder Ab
 schlussarbeiten verfassen oder ihre Schreibkompetenzen für den internatio
 nalen akademischen Kontext erweitern möchten. Der Kurs setzt bei typische
 n Hemmnissen und Sorgen an: „Alle anderen können besser schreiben als i
 ch“\, „Mein Englisch ist nicht gut genug“\, „Bevor ich anfange\, m
 uss ich erst die ganze Literatur lesen“\, „Ich brauche eigentlich viel
  mehr Zeit am Stück“. Auch Prokrastination und der Stress vor der Hausa
 rbeit gehören dazu.\n\nDas Kurskonzept zielt darauf\, diese Hürden mit p
 raxisnahen Strategien zu überwinden und durch eine Kombination aus stille
 n Schreibzeiten\, Inputs\, Lernstationen und Austauschphasen einen produkt
 iven Schreibfluss zu fördern.
LAST-MODIFIED:20260224T070019Z
URL:https://www.uni-bonn.de/de/veranstaltungen/academic-writing
END:VEVENT
BEGIN:VTIMEZONE
TZID:Europe/Berlin
X-LIC-LOCATION:Europe/Berlin
BEGIN:STANDARD
DTSTART:20251026T020000
TZNAME:CET
TZOFFSETFROM:+0200
TZOFFSETTO:+0100
END:STANDARD
END:VTIMEZONE
END:VCALENDAR
