BEGIN:VCALENDAR
VERSION:2.0
PRODID:-//Plone.org//NONSGML plone.app.event//EN
X-WR-TIMEZONE:Europe/Berlin
BEGIN:VEVENT
SUMMARY:A New Beginning for UK-EU Relations
DTSTART;TZID=Europe/Berlin:20230530T180000
DTEND;TZID=Europe/Berlin:20230530T193000
DTSTAMP:20260422T165807Z
UID:51fb4c072b3246b7961dec96aa38c265@www.uni-bonn.de
CREATED:20230424T125020Z
DESCRIPTION:The next edition of the “European Strategic Dialogue” will
  take a look at the current UK-EU realignment in the field of security and
  defense. It will explore the potential opened by the IR for productive an
 d sustainable cooperation with the European Union\, but also with the rest
  of “our continent” (Rishi Sunak)\, particularly in the framework of t
 he European Political Community. The discussion will also offer room to di
 scuss the role the partners\, all engaged in the Indo-Pacific\, could play
  in the context of China’s increasing assertiveness.\n\nThe European Str
 ategy Dialogue will be jointly organized by the University of Bonn/CASSIS\
 , Leiden University\, the French research center SIRICE (Sorbonne)\, and t
 he Friedrich Naumann Foundation.
LAST-MODIFIED:20230427T091359Z
URL:https://www.uni-bonn.de/de/veranstaltungen/a-new-beginning-for-uk-eu-r
 elations
END:VEVENT
BEGIN:VTIMEZONE
TZID:Europe/Berlin
X-LIC-LOCATION:Europe/Berlin
BEGIN:DAYLIGHT
DTSTART:20230326T030000
TZNAME:CEST
TZOFFSETFROM:+0100
TZOFFSETTO:+0200
END:DAYLIGHT
END:VTIMEZONE
END:VCALENDAR
