BEGIN:VCALENDAR
VERSION:2.0
PRODID:-//Plone.org//NONSGML plone.app.event//EN
X-WR-TIMEZONE:Europe/Berlin
BEGIN:VEVENT
SUMMARY:A Cosmopolitan Outlook on Health Workforce Development
DTSTART;TZID=Europe/Berlin:20221107T181500
DTEND:20221107T194500
DTSTAMP:20260425T181845Z
UID:fce1f7d8ead3470c9e4624570386bb01@www.uni-bonn.de
CREATED:20221026T144925Z
DESCRIPTION:Bonn Lectures in Global Health - Focus: Development Cooperatio
 n in Health
LAST-MODIFIED:20250906T011305Z
URL:https://www.uni-bonn.de/de/veranstaltungen/a-cosmopolitan-outlook-on-h
 ealth-workforce-development
END:VEVENT
BEGIN:VTIMEZONE
TZID:Europe/Berlin
X-LIC-LOCATION:Europe/Berlin
BEGIN:STANDARD
DTSTART:20221030T020000
TZNAME:CET
TZOFFSETFROM:+0200
TZOFFSETTO:+0100
END:STANDARD
END:VTIMEZONE
END:VCALENDAR
