BEGIN:VCALENDAR
VERSION:2.0
PRODID:-//Plone.org//NONSGML plone.app.event//EN
X-WR-TIMEZONE:Europe/Berlin
BEGIN:VEVENT
SUMMARY:9. Internationales BioSC Symposium
DTSTART:20251124T123000
DTEND:20251125T140000
DTSTAMP:20260425T153342Z
UID:873384d3ae66479b88fd3cb87b7dab46@www.uni-bonn.de
CREATED:20250917T082327Z
DESCRIPTION:Das Internationale BioSC Symposium\, eine Plattform für den i
 nter- und transdisziplinären Austausch für eine nachhaltige Bioökonomie
 \, thematisiert in seiner 9. Ausgabe die Zusammenhänge und Verknüpfungen
  zwischen Bioökonomie\, Nachhaltigkeit und Zirkularität im Kontext des g
 lobalen Wandels und des Klimawandels. Die Themenschwerpunkte des ersten Ta
 ges liegen auf der Verbindung von Kreislaufwirtschaft und nachhaltigem Wir
 tschaften und der Aufgabe und Rolle der Bioökonomie darin.  Am zweiten Ta
 g wird die Rolle von Innovationen\, Produktdesign\, künstlicher Intellige
 nz (AI) und Digitalisierung als Treiber nachhaltiger Technologien und Proz
 esse beleuchtet. Der Poster Call lädt dazu ein\, aktuelle Ergebnisse inte
 rdisziplinärer Bioökonomieforschung zu präsentieren.
LAST-MODIFIED:20250920T001349Z
URL:https://www.uni-bonn.de/de/veranstaltungen/9-internationales-biosc-sym
 posium
END:VEVENT
BEGIN:VTIMEZONE
TZID:Europe/Berlin
X-LIC-LOCATION:Europe/Berlin
BEGIN:STANDARD
DTSTART:20251026T020000
TZNAME:CET
TZOFFSETFROM:+0200
TZOFFSETTO:+0100
END:STANDARD
END:VTIMEZONE
END:VCALENDAR
