BEGIN:VCALENDAR
VERSION:2.0
PRODID:-//Plone.org//NONSGML plone.app.event//EN
X-WR-TIMEZONE:Europe/Berlin
BEGIN:VEVENT
SUMMARY:4m2 - Kunst trifft Physik
DTSTART:20241001T160000
DTEND:20241001T173000
DTSTAMP:20260422T124553Z
UID:80a7412400fb4565af0bde8a17070104@www.uni-bonn.de
CREATED:20240923T095226Z
DESCRIPTION:Im Foyer des Instituts für Angewandte Physik (IAP) der Univer
 sität Bonn stellt die Wechselausstellung „4m2“ Themen aus der Quanten
 physik künstlerisch dar. Durch den Einsatz von metaphorischen Bildern und
  poetischen Formen vermitteln die Künstlerinnen und Künstler\, alles Stu
 dierende der Alanus Hochschule für Kunst und Gesellschaft\, wissenschaftl
 ichen Konzepte auf einer emotionalen und intuitiven Ebene. Alle Künstler*
 innen erhalten eine zwei Meter mal zwei Meter große Wandfläche und insge
 samt 25 Rahmen\, die individuell gestaltet werden. Diese Einzelwerke füge
 n sich zu einem Gesamtwerk zusammen und laden die Besucherinnen und Besuch
 er dazu ein\, in die künstlerische Auseinandersetzung mit der Quantenphys
 ik einzutauchen. Die Werke machen komplizierte Konzepte wie Quantenverschr
 änkung\, Überlagerung sowie Ordnung und Chaos für ein breites Publikum 
 erfahrbar. Mit einer Mischung aus Kunst und Wissenschaft eröffnet sie neu
 e Perspektiven auf die Quantenwelt und unsere Beziehung zu ihr.
LAST-MODIFIED:20240923T095549Z
URL:https://www.uni-bonn.de/de/veranstaltungen/4m2-kunst-trifft-physik
END:VEVENT
BEGIN:VTIMEZONE
TZID:Europe/Berlin
X-LIC-LOCATION:Europe/Berlin
BEGIN:DAYLIGHT
DTSTART:20240331T030000
TZNAME:CEST
TZOFFSETFROM:+0100
TZOFFSETTO:+0200
END:DAYLIGHT
END:VTIMEZONE
END:VCALENDAR
