BEGIN:VCALENDAR
VERSION:2.0
PRODID:-//Plone.org//NONSGML plone.app.event//EN
X-WR-TIMEZONE:Europe/Berlin
BEGIN:VEVENT
SUMMARY:4. Bonner Epilepsie Forum
DTSTART:20251108T110000
DTEND:20251108T153000
DTSTAMP:20260425T155342Z
UID:f53f25b97a8f47efa128b72daf583400@www.uni-bonn.de
CREATED:20251009T123617Z
DESCRIPTION:NOTFÄLLE UND RISIKEN BEI EPILEPSIE\nEin Tag für Patienten\, 
 Angehörige und Freunde der Klinik und Poliklinik für Epileptologie in Bo
 nn
LAST-MODIFIED:20251009T155745Z
URL:https://www.uni-bonn.de/de/veranstaltungen/4-bonner-epilepsie-forum
END:VEVENT
BEGIN:VTIMEZONE
TZID:Europe/Berlin
X-LIC-LOCATION:Europe/Berlin
BEGIN:STANDARD
DTSTART:20251026T020000
TZNAME:CET
TZOFFSETFROM:+0200
TZOFFSETTO:+0100
END:STANDARD
END:VTIMEZONE
END:VCALENDAR
