BEGIN:VCALENDAR
VERSION:2.0
PRODID:-//Plone.org//NONSGML plone.app.event//EN
X-WR-TIMEZONE:Europe/Berlin
BEGIN:VEVENT
SUMMARY:Asien-Abend
DTSTART;TZID=Europe/Berlin:20251104T190000
DTEND;TZID=Europe/Berlin:20251104T220000
DTSTAMP:20260421T030018Z
UID:7aaa09a57a8843288542797f8f016c90@www.uni-bonn.de
CATEGORIES:Studierende,International Office,6.2,SUPA,Campus International,
 Internationaler Club,International
CREATED:20210417T163118Z
DESCRIPTION:Ihr plant ein Auslandssemester\, möchtet Euch über Eure Plä
 ne austauschen und aus erster Hand vom Studienalltag im Ausland erfahren? 
 Ihr habt Lust\, andere deutsche und internationale Studierende\, die sich 
 für asiatische Länder (außer Israel\, für das wir einen separaten Län
 derabend anbieten) interessieren\, oder aus diesen kommen\, kennenzulernen
 ? Dann seid Ihr hier genau richtig! Neben spannenden Erfahrungsberichten b
 ereiten wir ein kleines Rahmenprogramm mit weiteren informativen und unter
 haltsamen Punkten für Euch vor. (SUPA) (Internationaler Club)\n\nFür Eur
 e Teilnahme erhaltet Ihr 5 Punkte in der Komponente C2 des Zertifikats fü
 r Interkulturelle Kompetenz.\n\nIhr habt Lust den Abend mitzugestalten? Da
 nn schreibt uns eine E-Mail. Für das Mitwirken könnt Ihr auch Punkte fü
 r das Zertifikat erhalten! (SUPA) (Internationaler Club)
LAST-MODIFIED:20250826T135901Z
URL:https://www.uni-bonn.de/de/veranstaltungen/20251104-asien-abend
END:VEVENT
BEGIN:VTIMEZONE
TZID:Europe/Berlin
X-LIC-LOCATION:Europe/Berlin
BEGIN:STANDARD
DTSTART:20251026T020000
TZNAME:CET
TZOFFSETFROM:+0200
TZOFFSETTO:+0100
END:STANDARD
END:VTIMEZONE
END:VCALENDAR
