BEGIN:VCALENDAR
VERSION:2.0
PRODID:-//Plone.org//NONSGML plone.app.event//EN
X-WR-TIMEZONE:Europe/Berlin
BEGIN:VEVENT
SUMMARY:Nordeuropa-Abend
DTSTART;TZID=Europe/Berlin:20220512T193000
DTEND;TZID=Europe/Berlin:20220512T220000
DTSTAMP:20260422T210809Z
UID:f7e15b17ec344eac9033281e35649928@www.uni-bonn.de
CREATED:20210417T163118Z
DESCRIPTION:Ihr plant ein Auslandssemester und möchtet euch über eure Pl
 äne austauschen und wertvolles Insiderwissen von Returnees erhalten? Ihr 
 habt Lust\, andere deutsche und internationale Studierende\, die sich für
  Länder in Nordeuropa (Dänemark\, Finnland\, Norwegen\, Schweden) intere
 ssieren\, kennenzulernen? Dann seid ihr hier genau richtig! Neben spannend
 en Erfahrungsberichten bereiten wir ein kleines Rahmenprogramm mit weitere
 n informativen und unterhaltsamen Punkten für euch vor.\n\nFür eure Teil
 nahme erhaltet ihr 5 Punkte in der Komponente C2 des Zertifikats für Inte
 rkulturelle Kompetenz.\n\nIhr habt Lust den Abend mitzugestalten? Dann sch
 reibt uns eine E-Mail. Für das Mitwirken könnt Ihr auch Punkte für das 
 Zertifikat erhalten!
LAST-MODIFIED:20250906T010914Z
URL:https://www.uni-bonn.de/de/veranstaltungen/20220512_laenderabend-skand
 inavien
END:VEVENT
BEGIN:VTIMEZONE
TZID:Europe/Berlin
X-LIC-LOCATION:Europe/Berlin
BEGIN:DAYLIGHT
DTSTART:20220327T030000
TZNAME:CEST
TZOFFSETFROM:+0100
TZOFFSETTO:+0200
END:DAYLIGHT
END:VTIMEZONE
END:VCALENDAR
