BEGIN:VCALENDAR
VERSION:2.0
PRODID:-//Plone.org//NONSGML plone.app.event//EN
X-WR-TIMEZONE:Europe/Berlin
BEGIN:VEVENT
SUMMARY:140 Jahre Ernst Robert Curtius
DTSTART;TZID=Europe/Berlin:20260505T160000
DTEND;TZID=Europe/Berlin:20260505T200000
DTSTAMP:20260421T235131Z
UID:5b99ccf8b45d41aa93a11a5835c82d24@www.uni-bonn.de
CATEGORIES:International
CREATED:20260416T212618Z
DESCRIPTION:Am 14. April 2026 jährt sich der Geburtstag des einflussreich
 en Bonner Romanisten Ernst Robert Curtius\, der Namensgeber unseres Frankr
 eichzentrums CERC ist\, zum 140. Mal. Aus diesem Anlass laden wir im Rahme
 n der Europawoche "Europa denken\, Europa feiern" am 5. Mai zu zwei besond
 eren Veranstaltungen ein:\n\n05. Mai\, 16:00 - CERC-Salon Denkkulturen "14
 0 Jahre Ernst Robert Curtius" mit Impulsen von CERC-Mitgliedern zur Bedeut
 ung von Ernst Robert Curtius für ihre Arbeit\n05. Mai\, 18:00 - Öffentli
 cher Festvortrag "Was ist Europäische Literatur?" von Gerhard POPPENBERG 
 (Heidelberg)\n\nBeide Veranstaltungen finden am CERC\, Konrad-Zuse-Platz 1
 -3\, 53227 Bonn statt. \nUm eine Anmeldung via cerc@uni-bonn.de wird gebet
 en.
LAST-MODIFIED:20260417T073130Z
URL:https://www.uni-bonn.de/de/veranstaltungen/140-jahre-ernst-robert-curt
 ius
END:VEVENT
BEGIN:VTIMEZONE
TZID:Europe/Berlin
X-LIC-LOCATION:Europe/Berlin
BEGIN:DAYLIGHT
DTSTART:20260329T030000
TZNAME:CEST
TZOFFSETFROM:+0100
TZOFFSETTO:+0200
END:DAYLIGHT
END:VTIMEZONE
END:VCALENDAR
