BEGIN:VCALENDAR
VERSION:2.0
PRODID:-//Plone.org//NONSGML plone.app.event//EN
X-WR-TIMEZONE:Europe/Berlin
BEGIN:VEVENT
SUMMARY:1 Jahr Fairtrade-University
DTSTART;VALUE=DATE:20211124
DTEND;VALUE=DATE:20211125
DTSTAMP:20260424T054619Z
UID:455de84c168a4d719a03b9c397ecb36f@www.uni-bonn.de
CREATED:20211107T083750Z
DESCRIPTION:Im Rahmen des Nachhaltigen Novembers wird auch gefeiert\, dass
  die Uni Bonn bereits seit dem 23.11.20 als Fairtrade-University ausgezeic
 hnet ist.\nAuf dem Instagram Account der Initiative Fairtrade-University w
 ird es am Mittwoch den 24.11.21 ein Quiz mit tollen Gewinnen geben.\nhttps
 ://www.instagram.com/fairtrade_bonn/?hl=de
LAST-MODIFIED:20221130T101621Z
URL:https://www.uni-bonn.de/de/veranstaltungen/1-jahr-fairtrade-university
END:VEVENT
END:VCALENDAR
